BEGIN:VCALENDAR
VERSION:2.0
PRODID:-//Montaigne Lyceum - ECPv6.15.13.1//NONSGML v1.0//EN
CALSCALE:GREGORIAN
METHOD:PUBLISH
X-ORIGINAL-URL:https://montaignelyceum.nl
X-WR-CALDESC:Evenementen voor Montaigne Lyceum
REFRESH-INTERVAL;VALUE=DURATION:PT1H
X-Robots-Tag:noindex
X-PUBLISHED-TTL:PT1H
BEGIN:VTIMEZONE
TZID:Europe/Amsterdam
BEGIN:DAYLIGHT
TZOFFSETFROM:+0100
TZOFFSETTO:+0200
TZNAME:CEST
DTSTART:20240331T010000
END:DAYLIGHT
BEGIN:STANDARD
TZOFFSETFROM:+0200
TZOFFSETTO:+0100
TZNAME:CET
DTSTART:20241027T010000
END:STANDARD
BEGIN:DAYLIGHT
TZOFFSETFROM:+0100
TZOFFSETTO:+0200
TZNAME:CEST
DTSTART:20250330T010000
END:DAYLIGHT
BEGIN:STANDARD
TZOFFSETFROM:+0200
TZOFFSETTO:+0100
TZNAME:CET
DTSTART:20251026T010000
END:STANDARD
BEGIN:DAYLIGHT
TZOFFSETFROM:+0100
TZOFFSETTO:+0200
TZNAME:CEST
DTSTART:20260329T010000
END:DAYLIGHT
BEGIN:STANDARD
TZOFFSETFROM:+0200
TZOFFSETTO:+0100
TZNAME:CET
DTSTART:20261025T010000
END:STANDARD
END:VTIMEZONE
BEGIN:VEVENT
DTSTART;VALUE=DATE:20250901
DTEND;VALUE=DATE:20250902
DTSTAMP:20260419T164152
CREATED:20250703T081221Z
LAST-MODIFIED:20250703T081221Z
UID:8237-1756684800-1756771199@montaignelyceum.nl
SUMMARY:Organisatiedag. Alle leerlingen vrij.
DESCRIPTION:Vandaag halen de brugklasleerlingen het Chromebook op.
URL:https://montaignelyceum.nl/evenement/organisatiedag-alle-leerlingen-vrij/
END:VEVENT
BEGIN:VEVENT
DTSTART;VALUE=DATE:20250902
DTEND;VALUE=DATE:20250903
DTSTAMP:20260419T164152
CREATED:20250703T082008Z
LAST-MODIFIED:20250703T082008Z
UID:8240-1756771200-1756857599@montaignelyceum.nl
SUMMARY:Introductiedagen alle leerjaren
DESCRIPTION:
URL:https://montaignelyceum.nl/evenement/introductiedagen-alle-leerjaren-2/
END:VEVENT
BEGIN:VEVENT
DTSTART;TZID=Europe/Amsterdam:20250903T090000
DTEND;TZID=Europe/Amsterdam:20250903T130000
DTSTAMP:20260419T164152
CREATED:20250703T082130Z
LAST-MODIFIED:20250703T082730Z
UID:8243-1756890000-1756904400@montaignelyceum.nl
SUMMARY:Introductiedagen alle leerjaren
DESCRIPTION:
URL:https://montaignelyceum.nl/evenement/introductieprogramma-alle-leerjaren/
END:VEVENT
BEGIN:VEVENT
DTSTART;VALUE=DATE:20250904
DTEND;VALUE=DATE:20250905
DTSTAMP:20260419T164152
CREATED:20250703T082405Z
LAST-MODIFIED:20250703T082405Z
UID:8246-1756944000-1757030399@montaignelyceum.nl
SUMMARY:Start periode 1. Lessen volgens regulier rooster
DESCRIPTION:
URL:https://montaignelyceum.nl/evenement/start-periode-1-lessen-volgens-regulier-rooster/
END:VEVENT
BEGIN:VEVENT
DTSTART;TZID=Europe/Amsterdam:20250909T183000
DTEND;TZID=Europe/Amsterdam:20250909T191500
DTSTAMP:20260419T164152
CREATED:20250703T103552Z
LAST-MODIFIED:20250908T094211Z
UID:8284-1757442600-1757445300@montaignelyceum.nl
SUMMARY:Informatieavond voor ouders leerjaar 1
DESCRIPTION:
URL:https://montaignelyceum.nl/evenement/informatieavond-voor-ouders-leerjaar-1/
END:VEVENT
BEGIN:VEVENT
DTSTART;TZID=Europe/Amsterdam:20250909T193000
DTEND;TZID=Europe/Amsterdam:20250909T210000
DTSTAMP:20260419T164152
CREATED:20250703T103723Z
LAST-MODIFIED:20250908T094450Z
UID:8287-1757446200-1757451600@montaignelyceum.nl
SUMMARY:Informatieavond voor ouders 2H en 2V
DESCRIPTION:
URL:https://montaignelyceum.nl/evenement/informatieavond-voor-ouders-2h-en-2v/
END:VEVENT
BEGIN:VEVENT
DTSTART;TZID=Europe/Amsterdam:20250911T183000
DTEND;TZID=Europe/Amsterdam:20250911T200000
DTSTAMP:20260419T164152
CREATED:20250703T103927Z
LAST-MODIFIED:20250910T064636Z
UID:8290-1757615400-1757620800@montaignelyceum.nl
SUMMARY:Informatieavond voor ouders 2M
DESCRIPTION:
URL:https://montaignelyceum.nl/evenement/informatieavond-voor-ouders-2m/
END:VEVENT
BEGIN:VEVENT
DTSTART;TZID=Europe/Amsterdam:20250911T193000
DTEND;TZID=Europe/Amsterdam:20250911T210000
DTSTAMP:20260419T164152
CREATED:20250703T104135Z
LAST-MODIFIED:20250910T064827Z
UID:8293-1757619000-1757624400@montaignelyceum.nl
SUMMARY:Informatieavond voor ouders 3K en 3M
DESCRIPTION:
URL:https://montaignelyceum.nl/evenement/informatieavond-voor-ouders-3k-en-3m/
END:VEVENT
BEGIN:VEVENT
DTSTART;TZID=Europe/Amsterdam:20250916T080000
DTEND;TZID=Europe/Amsterdam:20250916T103000
DTSTAMP:20260419T164152
CREATED:20250703T083713Z
LAST-MODIFIED:20250703T083713Z
UID:8251-1758009600-1758018600@montaignelyceum.nl
SUMMARY:Prinsjesdag. Les t/m 3e uur.
DESCRIPTION:
URL:https://montaignelyceum.nl/evenement/prinsjesdag-les-t-m-3e-uur/
END:VEVENT
BEGIN:VEVENT
DTSTART;TZID=Europe/Amsterdam:20250917T080000
DTEND;TZID=Europe/Amsterdam:20250917T163000
DTSTAMP:20260419T164152
CREATED:20250703T083806Z
LAST-MODIFIED:20250703T083806Z
UID:8254-1758096000-1758126600@montaignelyceum.nl
SUMMARY:Schoolfotograaf
DESCRIPTION:
URL:https://montaignelyceum.nl/evenement/schoolfotograaf-3/
END:VEVENT
BEGIN:VEVENT
DTSTART;TZID=Europe/Amsterdam:20250918T080000
DTEND;TZID=Europe/Amsterdam:20250918T163000
DTSTAMP:20260419T164152
CREATED:20250703T083841Z
LAST-MODIFIED:20250703T083841Z
UID:8257-1758182400-1758213000@montaignelyceum.nl
SUMMARY:Schoolfotograaf
DESCRIPTION:
URL:https://montaignelyceum.nl/evenement/schoolfotograaf-4/
END:VEVENT
BEGIN:VEVENT
DTSTART;TZID=Europe/Amsterdam:20250918T190000
DTEND;TZID=Europe/Amsterdam:20250918T200000
DTSTAMP:20260419T164152
CREATED:20250703T102550Z
LAST-MODIFIED:20250916T133213Z
UID:8266-1758222000-1758225600@montaignelyceum.nl
SUMMARY:Informatieavond voor ouders 3V en 3G
DESCRIPTION:
URL:https://montaignelyceum.nl/evenement/informatieavond-voor-ouders-3v-2/
END:VEVENT
BEGIN:VEVENT
DTSTART;TZID=Europe/Amsterdam:20250918T200000
DTEND;TZID=Europe/Amsterdam:20250918T210000
DTSTAMP:20260419T164152
CREATED:20250703T102649Z
LAST-MODIFIED:20250910T080332Z
UID:8269-1758225600-1758229200@montaignelyceum.nl
SUMMARY:Informatieavond voor ouders 4V
DESCRIPTION:
URL:https://montaignelyceum.nl/evenement/informatieavond-voor-ouders-4v-2/
END:VEVENT
BEGIN:VEVENT
DTSTART;TZID=Europe/Amsterdam:20250923T183000
DTEND;TZID=Europe/Amsterdam:20250923T194500
DTSTAMP:20260419T164152
CREATED:20250703T102931Z
LAST-MODIFIED:20250908T095726Z
UID:8272-1758652200-1758656700@montaignelyceum.nl
SUMMARY:Informatieavond voor ouders 3H en 5H
DESCRIPTION:
URL:https://montaignelyceum.nl/evenement/informatieavond-voor-ouders-3h-en-5h/
END:VEVENT
BEGIN:VEVENT
DTSTART;TZID=Europe/Amsterdam:20250923T193000
DTEND;TZID=Europe/Amsterdam:20250923T203000
DTSTAMP:20260419T164152
CREATED:20250703T103032Z
LAST-MODIFIED:20250908T095804Z
UID:8275-1758655800-1758659400@montaignelyceum.nl
SUMMARY:Informatieavond voor ouders 4H
DESCRIPTION:
URL:https://montaignelyceum.nl/evenement/informatieavond-voor-ouders-4h/
END:VEVENT
BEGIN:VEVENT
DTSTART;VALUE=DATE:20250925
DTEND;VALUE=DATE:20250926
DTSTAMP:20260419T164152
CREATED:20250904T115500Z
LAST-MODIFIED:20250904T115500Z
UID:8584-1758758400-1758844799@montaignelyceum.nl
SUMMARY:Dag van de Duitse Taal
DESCRIPTION:
URL:https://montaignelyceum.nl/evenement/dag-van-de-duitse-taal/
END:VEVENT
BEGIN:VEVENT
DTSTART;TZID=Europe/Amsterdam:20250930T183000
DTEND;TZID=Europe/Amsterdam:20250930T200000
DTSTAMP:20260419T164152
CREATED:20250703T103308Z
LAST-MODIFIED:20250908T100349Z
UID:8278-1759257000-1759262400@montaignelyceum.nl
SUMMARY:Informatieavond voor ouders 4M en 4K
DESCRIPTION:
URL:https://montaignelyceum.nl/evenement/informatieavond-voor-ouders-4m-en-4k/
END:VEVENT
BEGIN:VEVENT
DTSTART;TZID=Europe/Amsterdam:20250930T190000
DTEND;TZID=Europe/Amsterdam:20250930T200000
DTSTAMP:20260419T164152
CREATED:20250703T103426Z
LAST-MODIFIED:20250910T111511Z
UID:8281-1759258800-1759262400@montaignelyceum.nl
SUMMARY:Informatieavond voor ouders 5V
DESCRIPTION:
URL:https://montaignelyceum.nl/evenement/informatieavond-voor-ouders-5v-en-6v/
END:VEVENT
BEGIN:VEVENT
DTSTART;TZID=Europe/Amsterdam:20250930T200000
DTEND;TZID=Europe/Amsterdam:20250930T210000
DTSTAMP:20260419T164152
CREATED:20250910T111603Z
LAST-MODIFIED:20250910T111603Z
UID:8768-1759262400-1759266000@montaignelyceum.nl
SUMMARY:informatieavond voor ouders 6V
DESCRIPTION:
URL:https://montaignelyceum.nl/evenement/informatieavond-voor-ouders-6v/
END:VEVENT
END:VCALENDAR