BEGIN:VCALENDAR
VERSION:2.0
PRODID:-//Montaigne Lyceum - ECPv6.15.13.1//NONSGML v1.0//EN
CALSCALE:GREGORIAN
METHOD:PUBLISH
X-WR-CALNAME:Montaigne Lyceum
X-ORIGINAL-URL:https://montaignelyceum.nl
X-WR-CALDESC:Evenementen voor Montaigne Lyceum
REFRESH-INTERVAL;VALUE=DURATION:PT1H
X-Robots-Tag:noindex
X-PUBLISHED-TTL:PT1H
BEGIN:VTIMEZONE
TZID:Europe/Amsterdam
BEGIN:DAYLIGHT
TZOFFSETFROM:+0100
TZOFFSETTO:+0200
TZNAME:CEST
DTSTART:20240331T010000
END:DAYLIGHT
BEGIN:STANDARD
TZOFFSETFROM:+0200
TZOFFSETTO:+0100
TZNAME:CET
DTSTART:20241027T010000
END:STANDARD
BEGIN:DAYLIGHT
TZOFFSETFROM:+0100
TZOFFSETTO:+0200
TZNAME:CEST
DTSTART:20250330T010000
END:DAYLIGHT
BEGIN:STANDARD
TZOFFSETFROM:+0200
TZOFFSETTO:+0100
TZNAME:CET
DTSTART:20251026T010000
END:STANDARD
BEGIN:DAYLIGHT
TZOFFSETFROM:+0100
TZOFFSETTO:+0200
TZNAME:CEST
DTSTART:20260329T010000
END:DAYLIGHT
BEGIN:STANDARD
TZOFFSETFROM:+0200
TZOFFSETTO:+0100
TZNAME:CET
DTSTART:20261025T010000
END:STANDARD
END:VTIMEZONE
BEGIN:VEVENT
DTSTART;TZID=Europe/Amsterdam:20250701T140000
DTEND;TZID=Europe/Amsterdam:20250701T170000
DTSTAMP:20260420T093150
CREATED:20240709T133843Z
LAST-MODIFIED:20240709T133843Z
UID:6997-1751378400-1751389200@montaignelyceum.nl
SUMMARY:Uitslag centraal schriftelijk examen 2e tijdvak
DESCRIPTION:
URL:https://montaignelyceum.nl/evenement/uitslag-centraal-schriftelijk-examen-2e-tijdvak/
END:VEVENT
BEGIN:VEVENT
DTSTART;TZID=Europe/Amsterdam:20250626T080000
DTEND;TZID=Europe/Amsterdam:20250703T170000
DTSTAMP:20260420T093150
CREATED:20240709T133750Z
LAST-MODIFIED:20240709T133750Z
UID:6994-1750924800-1751562000@montaignelyceum.nl
SUMMARY:Toetsweek 4 t/m 3 juli
DESCRIPTION:
URL:https://montaignelyceum.nl/evenement/toetsweek-4-t-m-3-juli/
END:VEVENT
BEGIN:VEVENT
DTSTART;TZID=Europe/Amsterdam:20250625T082000
DTEND;TZID=Europe/Amsterdam:20250625T124500
DTSTAMP:20260420T093150
CREATED:20240709T133600Z
LAST-MODIFIED:20240709T133600Z
UID:6991-1750839600-1750855500@montaignelyceum.nl
SUMMARY:30 minuten rooster
DESCRIPTION:
URL:https://montaignelyceum.nl/evenement/30-minuten-rooster-5/
END:VEVENT
BEGIN:VEVENT
DTSTART;TZID=Europe/Amsterdam:20250621T090000
DTEND;TZID=Europe/Amsterdam:20250621T170000
DTSTAMP:20260420T093150
CREATED:20240709T133442Z
LAST-MODIFIED:20241024T081237Z
UID:6988-1750496400-1750525200@montaignelyceum.nl
SUMMARY:DELF examen
DESCRIPTION:
URL:https://montaignelyceum.nl/evenement/delf-examen-4/
END:VEVENT
BEGIN:VEVENT
DTSTART;TZID=Europe/Amsterdam:20250613T090000
DTEND;TZID=Europe/Amsterdam:20250613T170000
DTSTAMP:20260420T093150
CREATED:20240709T133414Z
LAST-MODIFIED:20240709T133414Z
UID:6985-1749805200-1749834000@montaignelyceum.nl
SUMMARY:4H/5V: sportdag beachvolleybal
DESCRIPTION:
URL:https://montaignelyceum.nl/evenement/4h-5v-sportdag-beachvolleybal/
END:VEVENT
BEGIN:VEVENT
DTSTART;TZID=Europe/Amsterdam:20250612T140000
DTEND;TZID=Europe/Amsterdam:20250612T170000
DTSTAMP:20260420T093150
CREATED:20240709T133303Z
LAST-MODIFIED:20240709T133303Z
UID:6982-1749736800-1749747600@montaignelyceum.nl
SUMMARY:Uitslag centraal schriftelijk examen 1e tijdvak
DESCRIPTION:
URL:https://montaignelyceum.nl/evenement/uitslag-centraal-schriftelijk-examen-1e-tijdvak/
END:VEVENT
BEGIN:VEVENT
DTSTART;TZID=Europe/Amsterdam:20250611T082000
DTEND;TZID=Europe/Amsterdam:20250611T170000
DTSTAMP:20260420T093150
CREATED:20240709T133131Z
LAST-MODIFIED:20241024T081149Z
UID:6976-1749630000-1749661200@montaignelyceum.nl
SUMMARY:DELF examen
DESCRIPTION:
URL:https://montaignelyceum.nl/evenement/delf-examen-3/
END:VEVENT
BEGIN:VEVENT
DTSTART;TZID=Europe/Amsterdam:20250609T082000
DTEND;TZID=Europe/Amsterdam:20250609T170000
DTSTAMP:20260420T093150
CREATED:20240709T133203Z
LAST-MODIFIED:20240709T133203Z
UID:6979-1749457200-1749488400@montaignelyceum.nl
SUMMARY:2e Pinksterdag: school gesloten
DESCRIPTION:
URL:https://montaignelyceum.nl/evenement/2e-pinksterdag-school-gesloten-2/
END:VEVENT
BEGIN:VEVENT
DTSTART;TZID=Europe/Amsterdam:20250604T082000
DTEND;TZID=Europe/Amsterdam:20250604T170000
DTSTAMP:20260420T093150
CREATED:20240709T133105Z
LAST-MODIFIED:20240709T133105Z
UID:6973-1749025200-1749056400@montaignelyceum.nl
SUMMARY:2M: dagexcursie Lille
DESCRIPTION:
URL:https://montaignelyceum.nl/evenement/2m-dagexcursie-lille/
END:VEVENT
BEGIN:VEVENT
DTSTART;TZID=Europe/Amsterdam:20250529T080000
DTEND;TZID=Europe/Amsterdam:20250530T170000
DTSTAMP:20260420T093150
CREATED:20240709T132941Z
LAST-MODIFIED:20240709T132941Z
UID:6970-1748505600-1748624400@montaignelyceum.nl
SUMMARY:Hemelvaartweekend t/m 30 mei
DESCRIPTION:
URL:https://montaignelyceum.nl/evenement/hemelvaartweekend-t-m-30-mei/
END:VEVENT
BEGIN:VEVENT
DTSTART;TZID=Europe/Amsterdam:20250528T082000
DTEND;TZID=Europe/Amsterdam:20250528T170000
DTSTAMP:20260420T093150
CREATED:20240709T132755Z
LAST-MODIFIED:20240709T132755Z
UID:6964-1748420400-1748451600@montaignelyceum.nl
SUMMARY:3H: Dagexcursie Lille
DESCRIPTION:
URL:https://montaignelyceum.nl/evenement/3h-dagexcursie-lille/
END:VEVENT
BEGIN:VEVENT
DTSTART;TZID=Europe/Amsterdam:20250528T082000
DTEND;TZID=Europe/Amsterdam:20250528T114500
DTSTAMP:20260420T093150
CREATED:20240709T132857Z
LAST-MODIFIED:20240709T132857Z
UID:6967-1748420400-1748432700@montaignelyceum.nl
SUMMARY:Herkansing SE 3 niet-examenklassen 1e t/m 4e uur
DESCRIPTION:
URL:https://montaignelyceum.nl/evenement/herkansing-se-3-niet-examenklassen-1e-t-m-4e-uur/
END:VEVENT
BEGIN:VEVENT
DTSTART;TZID=Europe/Amsterdam:20250523T170000
DTEND;TZID=Europe/Amsterdam:20250523T170000
DTSTAMP:20260420T093150
CREATED:20250306T150113Z
LAST-MODIFIED:20250306T150123Z
UID:8028-1748019600-1748019600@montaignelyceum.nl
SUMMARY:Finissage
DESCRIPTION:
URL:https://montaignelyceum.nl/evenement/finissage/
END:VEVENT
BEGIN:VEVENT
DTSTART;TZID=Europe/Amsterdam:20250521T090000
DTEND;TZID=Europe/Amsterdam:20250521T170000
DTSTAMP:20260420T093150
CREATED:20240709T132657Z
LAST-MODIFIED:20240709T132657Z
UID:6961-1747818000-1747846800@montaignelyceum.nl
SUMMARY:Sportdag Beachvolleybal klas 3K/3M
DESCRIPTION:
URL:https://montaignelyceum.nl/evenement/sportdag-beachvolleybal-klas-3k-3m/
END:VEVENT
BEGIN:VEVENT
DTSTART;TZID=Europe/Amsterdam:20250520T134500
DTEND;TZID=Europe/Amsterdam:20250520T170000
DTSTAMP:20260420T093150
CREATED:20250401T120108Z
LAST-MODIFIED:20250401T120108Z
UID:8111-1747748700-1747760400@montaignelyceum.nl
SUMMARY:Herkansing ob h/v
DESCRIPTION:
URL:https://montaignelyceum.nl/evenement/herkansing-ob-h-v/
END:VEVENT
BEGIN:VEVENT
DTSTART;TZID=Europe/Amsterdam:20250513T082000
DTEND;TZID=Europe/Amsterdam:20250513T170000
DTSTAMP:20260420T093150
CREATED:20240709T132552Z
LAST-MODIFIED:20240709T132552Z
UID:6958-1747124400-1747155600@montaignelyceum.nl
SUMMARY:Herkansing toetsweek 3
DESCRIPTION:
URL:https://montaignelyceum.nl/evenement/herkansing-toetsweek-3/
END:VEVENT
BEGIN:VEVENT
DTSTART;TZID=Europe/Amsterdam:20250509T082000
DTEND;TZID=Europe/Amsterdam:20250509T170000
DTSTAMP:20260420T093150
CREATED:20240709T132146Z
LAST-MODIFIED:20240709T132146Z
UID:6953-1746778800-1746810000@montaignelyceum.nl
SUMMARY:Brugklaskamp havo/vwo
DESCRIPTION:
URL:https://montaignelyceum.nl/evenement/brugklaskamp-havo-vwo/
END:VEVENT
BEGIN:VEVENT
DTSTART;TZID=Europe/Amsterdam:20250509T080000
DTEND;TZID=Europe/Amsterdam:20250523T170000
DTSTAMP:20260420T093150
CREATED:20240709T132404Z
LAST-MODIFIED:20240709T132404Z
UID:6956-1746777600-1748019600@montaignelyceum.nl
SUMMARY:Centraal schriftelijk examen t/m 23 mei
DESCRIPTION:
URL:https://montaignelyceum.nl/evenement/centraal-schriftelijk-examen-t-m-23-mei/
END:VEVENT
BEGIN:VEVENT
DTSTART;TZID=Europe/Amsterdam:20250508T082000
DTEND;TZID=Europe/Amsterdam:20250508T170000
DTSTAMP:20260420T093150
CREATED:20240709T132120Z
LAST-MODIFIED:20240709T132120Z
UID:6950-1746692400-1746723600@montaignelyceum.nl
SUMMARY:Brugklaskamp havo/vwo t/m 9 mei
DESCRIPTION:
URL:https://montaignelyceum.nl/evenement/brugklaskamp-havo-vwo-t-m-9-mei-2/
END:VEVENT
BEGIN:VEVENT
DTSTART;TZID=Europe/Amsterdam:20250507T082000
DTEND;TZID=Europe/Amsterdam:20250507T170000
DTSTAMP:20260420T093150
CREATED:20240709T132055Z
LAST-MODIFIED:20240709T132055Z
UID:6947-1746606000-1746637200@montaignelyceum.nl
SUMMARY:Brugklaskamp havo/vwo t/m 9 mei
DESCRIPTION:
URL:https://montaignelyceum.nl/evenement/brugklaskamp-havo-vwo-t-m-9-mei/
END:VEVENT
BEGIN:VEVENT
DTSTART;TZID=Europe/Amsterdam:20250507T082000
DTEND;TZID=Europe/Amsterdam:20250507T170000
DTSTAMP:20260420T093150
CREATED:20240709T131923Z
LAST-MODIFIED:20240709T131923Z
UID:6944-1746606000-1746637200@montaignelyceum.nl
SUMMARY:Inhaal SE 3 niet-examenklassen
DESCRIPTION:
URL:https://montaignelyceum.nl/evenement/inhaal-se-3-niet-examenklassen-2/
END:VEVENT
BEGIN:VEVENT
DTSTART;TZID=Europe/Amsterdam:20250506T082000
DTEND;TZID=Europe/Amsterdam:20250506T170000
DTSTAMP:20260420T093150
CREATED:20240709T131845Z
LAST-MODIFIED:20240709T131845Z
UID:6941-1746519600-1746550800@montaignelyceum.nl
SUMMARY:Inhaal SE 3 niet-examenklassen
DESCRIPTION:
URL:https://montaignelyceum.nl/evenement/inhaal-se-3-niet-examenklassen/
END:VEVENT
BEGIN:VEVENT
DTSTART;VALUE=DATE:20250421
DTEND;VALUE=DATE:20250506
DTSTAMP:20260420T093150
CREATED:20240709T130731Z
LAST-MODIFIED:20240709T130757Z
UID:6934-1745193600-1746489599@montaignelyceum.nl
SUMMARY:MEIVAKANTIE t/m maandag 5 mei
DESCRIPTION:
URL:https://montaignelyceum.nl/evenement/meivakantie-2/
END:VEVENT
END:VCALENDAR